BEGIN:VCALENDAR
VERSION:2.0
PRODID:-//eventon.com NONSGML v1.0//EN
CALSCALE:GREGORIAN
METHOD:PUBLISH
BEGIN:VEVENT
UID:69e73df2192b7
DTSTAMP:20260421T090554Z
DTSTART:20260321T123100Z
DTEND:20260322T123100Z
LOCATION:RFV-Reken Berge 12A\,  48734 Reken
SUMMARY:WBO Turnier
DESCRIPTION:\nhttps://www.rfv-reken.de/events/wbo-turnier-3/
URL:https://www.rfv-reken.de/events/wbo-turnier-3/
END:VEVENT
END:VCALENDAR